BEGIN:VCALENDAR
VERSION:2.0
PRODID:-//ECSACONM - ECPv6.15.1.1//NONSGML v1.0//EN
CALSCALE:GREGORIAN
METHOD:PUBLISH
X-WR-CALNAME:ECSACONM
X-ORIGINAL-URL:https://ecsaconm.org
X-WR-CALDESC:Events for ECSACONM
REFRESH-INTERVAL;VALUE=DURATION:PT1H
X-Robots-Tag:noindex
X-PUBLISHED-TTL:PT1H
BEGIN:VTIMEZONE
TZID:Africa/Nairobi
BEGIN:STANDARD
TZOFFSETFROM:+0300
TZOFFSETTO:+0300
TZNAME:EAT
DTSTART:20260101T000000
END:STANDARD
END:VTIMEZONE
BEGIN:VEVENT
DTSTART;TZID=Africa/Nairobi:20260921T080000
DTEND;TZID=Africa/Nairobi:20260925T163000
DTSTAMP:20260424T162059
CREATED:20251116T174046Z
LAST-MODIFIED:20251116T174405Z
UID:3996-1789977600-1790353800@ecsaconm.org
SUMMARY:17th ECSACONM Biennial Scientific Conference & 8th general assembly
DESCRIPTION:
URL:https://ecsaconm.org/event/17thbiennial-conference/
END:VEVENT
END:VCALENDAR